BEGIN:VCALENDAR
VERSION:2.0
PRODID:-//American Subcontractors Association of Michigan - ECPv6.15.20//NONSGML v1.0//EN
CALSCALE:GREGORIAN
METHOD:PUBLISH
X-ORIGINAL-URL:https://asamichigan.net
X-WR-CALDESC:Events for American Subcontractors Association of Michigan
REFRESH-INTERVAL;VALUE=DURATION:PT1H
X-Robots-Tag:noindex
X-PUBLISHED-TTL:PT1H
BEGIN:VTIMEZONE
TZID:America/Detroit
BEGIN:DAYLIGHT
TZOFFSETFROM:-0500
TZOFFSETTO:-0400
TZNAME:EDT
DTSTART:20250309T070000
END:DAYLIGHT
BEGIN:STANDARD
TZOFFSETFROM:-0400
TZOFFSETTO:-0500
TZNAME:EST
DTSTART:20251102T060000
END:STANDARD
BEGIN:DAYLIGHT
TZOFFSETFROM:-0500
TZOFFSETTO:-0400
TZNAME:EDT
DTSTART:20260308T070000
END:DAYLIGHT
BEGIN:STANDARD
TZOFFSETFROM:-0400
TZOFFSETTO:-0500
TZNAME:EST
DTSTART:20261101T060000
END:STANDARD
BEGIN:DAYLIGHT
TZOFFSETFROM:-0500
TZOFFSETTO:-0400
TZNAME:EDT
DTSTART:20270314T070000
END:DAYLIGHT
BEGIN:STANDARD
TZOFFSETFROM:-0400
TZOFFSETTO:-0500
TZNAME:EST
DTSTART:20271107T060000
END:STANDARD
END:VTIMEZONE
BEGIN:VEVENT
DTSTART;TZID=America/Detroit:20260203T070000
DTEND;TZID=America/Detroit:20260203T110000
DTSTAMP:20260421T083618
CREATED:20251231T012706Z
LAST-MODIFIED:20251231T012817Z
UID:10000004-1770102000-1770116400@asamichigan.net
SUMMARY:2026 Annual Safety Breakfast
DESCRIPTION:Join us for the Annual Safety Breakfast\, one of Associated Builders and Contractors Western Michigan and ASAM’s most anticipated events of the year—where safety leaders\, industry professionals\, and partners unite under our shared mission of Protecting the Industry.\n  \nThis year’s featured keynote speaker is Astronaut Mike Mullane\, a retired Air Force Colonel\, veteran of three space shuttle missions\, and a member of the International Space Hall of Fame. Drawing from his extraordinary career—from flying 134 combat missions in Vietnam to launching aboard the Space Shuttle Discovery and Atlantis—Mullane delivers a riveting and unforgettable program on teamwork\, leadership\, and safety excellence.\n  \nIn his powerful presentation\, Mullane takes attendees inside NASA’s high-stakes world of human spaceflight to reveal how teamwork and safety discipline make the difference between success and tragedy. Using gripping stories\, humor\, and real-world lessons\, he demonstrates how every individual—whether in the cockpit\, the control room\, or on the jobsite—has a critical role in preventing “normalization of deviance” and building a culture where safety and accountability are non-negotiable.\n\nGet your Tickets Here!\n \nCo-Hosted with: 
URL:https://asamichigan.net/event/abc-annual-safety-breakfast-2026/
LOCATION:Eberhard Center\, 301 Fulton St. West\, Grand Rapids\, MI\, 49504\, United States
CATEGORIES:Safety
ATTACH;FMTTYPE=image/jpeg:https://asamichigan.net/wp-content/uploads/2025/12/annual-safety-breakfast.jpg
ORGANIZER;CN="ABC West Michigan":MAILTO:kbrown@abcwmc.org
END:VEVENT
END:VCALENDAR