BEGIN:VCALENDAR
VERSION:2.0
PRODID:-//American Subcontractors Association of Michigan - ECPv6.15.20//NONSGML v1.0//EN
CALSCALE:GREGORIAN
METHOD:PUBLISH
X-ORIGINAL-URL:https://asamichigan.net
X-WR-CALDESC:Events for American Subcontractors Association of Michigan
REFRESH-INTERVAL;VALUE=DURATION:PT1H
X-Robots-Tag:noindex
X-PUBLISHED-TTL:PT1H
BEGIN:VTIMEZONE
TZID:America/Detroit
BEGIN:DAYLIGHT
TZOFFSETFROM:-0500
TZOFFSETTO:-0400
TZNAME:EDT
DTSTART:20250309T070000
END:DAYLIGHT
BEGIN:STANDARD
TZOFFSETFROM:-0400
TZOFFSETTO:-0500
TZNAME:EST
DTSTART:20251102T060000
END:STANDARD
BEGIN:DAYLIGHT
TZOFFSETFROM:-0500
TZOFFSETTO:-0400
TZNAME:EDT
DTSTART:20260308T070000
END:DAYLIGHT
BEGIN:STANDARD
TZOFFSETFROM:-0400
TZOFFSETTO:-0500
TZNAME:EST
DTSTART:20261101T060000
END:STANDARD
BEGIN:DAYLIGHT
TZOFFSETFROM:-0500
TZOFFSETTO:-0400
TZNAME:EDT
DTSTART:20270314T070000
END:DAYLIGHT
BEGIN:STANDARD
TZOFFSETFROM:-0400
TZOFFSETTO:-0500
TZNAME:EST
DTSTART:20271107T060000
END:STANDARD
END:VTIMEZONE
BEGIN:VEVENT
DTSTART;TZID=America/Detroit:20260603T150000
DTEND;TZID=America/Detroit:20260603T170000
DTSTAMP:20260423T080638
CREATED:20260318T175059Z
LAST-MODIFIED:20260413T131646Z
UID:10000008-1780498800-1780506000@asamichigan.net
SUMMARY:2026 ASAM Membership Meeting
DESCRIPTION:TAPS\, TALKS\, & CONTRACTORS: \nASAM’s June Membership Meeting\nBefore the summer construction rush kicks into high gear\, join us for celebratory drinks and food at Founders Brewing! Our annual membership meeting brings together Michigan’s top subcontractors and our 2026 Michigan Contractor of the Year (MCOY) nominees for a relaxed\, agenda-free gathering at the place that put Beer City on the map. \nThis is a rare chance to rub elbows with the region’s top GCs in an environment where you can actually hear each other talk. Whether you’re looking to break the ice with a new partner or catch up with long-time industry peers\, this is the room you want to be in. \nWhy you should be there:\n\nThe Inside Track: Mingle with the MCOY nominees and fellow West Michigan subcontractors.\nZero Fluff: No podiums\, no PowerPoints—just high-value networking.\nThe Venue: Enjoy the best of Founders Brewing while you build your business.\n\n  \nNote: This event is only open to ASAM members and past MCOY nominees. \n 
URL:https://asamichigan.net/event/2026-asam-membership-meeting/
LOCATION:Founders Brewing\, 235 Cesar E. Chavez Ave SW\, Grand Rapids\, MI\, 49503\, United States
CATEGORIES:Members Only
ATTACH;FMTTYPE=image/jpeg:https://asamichigan.net/wp-content/uploads/2026/03/2026-ASAM-Membership-Meeting-2.jpg
ORGANIZER;CN="American Subcontractors Association of Michigan":MAILTO:info@asamichigan.net
END:VEVENT
END:VCALENDAR