BEGIN:VCALENDAR
VERSION:2.0
PRODID:-//American Subcontractors Association of Michigan - ECPv6.15.20//NONSGML v1.0//EN
CALSCALE:GREGORIAN
METHOD:PUBLISH
X-WR-CALNAME:American Subcontractors Association of Michigan
X-ORIGINAL-URL:https://asamichigan.net
X-WR-CALDESC:Events for American Subcontractors Association of Michigan
REFRESH-INTERVAL;VALUE=DURATION:PT1H
X-Robots-Tag:noindex
X-PUBLISHED-TTL:PT1H
BEGIN:VTIMEZONE
TZID:America/Detroit
BEGIN:DAYLIGHT
TZOFFSETFROM:-0500
TZOFFSETTO:-0400
TZNAME:EDT
DTSTART:20250309T070000
END:DAYLIGHT
BEGIN:STANDARD
TZOFFSETFROM:-0400
TZOFFSETTO:-0500
TZNAME:EST
DTSTART:20251102T060000
END:STANDARD
BEGIN:DAYLIGHT
TZOFFSETFROM:-0500
TZOFFSETTO:-0400
TZNAME:EDT
DTSTART:20260308T070000
END:DAYLIGHT
BEGIN:STANDARD
TZOFFSETFROM:-0400
TZOFFSETTO:-0500
TZNAME:EST
DTSTART:20261101T060000
END:STANDARD
BEGIN:DAYLIGHT
TZOFFSETFROM:-0500
TZOFFSETTO:-0400
TZNAME:EDT
DTSTART:20270314T070000
END:DAYLIGHT
BEGIN:STANDARD
TZOFFSETFROM:-0400
TZOFFSETTO:-0500
TZNAME:EST
DTSTART:20271107T060000
END:STANDARD
END:VTIMEZONE
BEGIN:VEVENT
DTSTART;TZID=America/Detroit:20260205T163000
DTEND;TZID=America/Detroit:20260205T200000
DTSTAMP:20260423T094328
CREATED:20260108T193335Z
LAST-MODIFIED:20260108T193335Z
UID:10000005-1770309000-1770321600@asamichigan.net
SUMMARY:15th Annual Michigan Contractor of the Year Awards
DESCRIPTION:Join us for an action-packed evening celebrating excellence in construction and leadership! The Michigan Contractors of the Year (MCOY) Awards returns — shining a spotlight on the outstanding general contractors and construction managers who elevate our industry through excellence\, integrity\, and innovation. \nEvent Highlights: \n\nMCOY Awards Ceremony: Honor the top performers in Michigan’s construction community as we recognize those who go above and beyond.\nFood\, Drinks & Fowling: Enjoy great food and signature drinks while throwing footballs at bowling pins.\nNetworking: Connect with fellow professionals over great food and drinks in a high-energy\, informal setting.\n\nWhether you’re looking to cheer on industry leaders or engage in some spirited fun\, this will be a night to remember. Mark your calendars and get ready to celebrate success — your own and each other’s! \nVisit the official MCOY page here for more information on registration and sponsorships.
URL:https://asamichigan.net/event/15th-annual-michigan-contractor-of-the-year-awards/
LOCATION:Fowling Warehouse\, 6797 Cascade Rd SE\, Grand Rapids\, 49546\, United States
ATTACH;FMTTYPE=image/png:https://asamichigan.net/wp-content/uploads/2026/01/MCOY-Awards-2026-Event-Banner.png
ORGANIZER;CN="American Subcontractors Association of Michigan":MAILTO:info@asamichigan.net
END:VEVENT
END:VCALENDAR